View In:
ArcGIS JavaScript
ArcGIS Online Map Viewer
ArcGIS Earth
ArcMap
View Footprint In:
ArcGIS Online Map Viewer
Service Description: Imagery/WarrenMS400
Name: Imagery/WarrenMS400
Description:
Single Fused Map Cache: false
Extent:
XMin: 2031532.57262978
YMin: 932857.81542307
XMax: 2234423.22305078
YMax: 1145758.57743767
Spatial Reference: 102695
(2255)
Initial Extent:
XMin: 2031532.57262978
YMin: 932857.81542307
XMax: 2234423.22305078
YMax: 1145758.57743767
Spatial Reference: 102695
(2255)
Full Extent:
XMin: 2031532.57262978
YMin: 932857.81542307
XMax: 2234423.22305078
YMax: 1145758.57743767
Spatial Reference: 102695
(2255)
Pixel Size X: 1.998824200000001
Pixel Size Y: 1.9988241999999998
Band Count: 3
Pixel Type: U8
RasterFunction Infos: {"rasterFunctionInfos": [{
"name": "None",
"description": "",
"help": ""
}]}
Mensuration Capabilities: Basic
Has Histograms: true
Has Colormap: false
Has Multi Dimensions : false
Rendering Rule:
Min Scale: 0
Max Scale: 0
Copyright Text:
Service Data Type: esriImageServiceDataTypeRGB
Min Values: 32, 33, 24
Max Values: 255, 255, 255
Mean Values: 164.57509433962, 164.14037735849, 160.31698113208
Standard Deviation Values: 72.19410302638, 72.493762333156, 75.2709263471
Object ID Field:
Fields:
None
Default Mosaic Method: Center
Allowed Mosaic Methods:
SortField:
SortValue: null
Mosaic Operator: First
Default Compression Quality: 75
Default Resampling Method: Bilinear
Max Record Count: null
Max Image Height: 4100
Max Image Width: 15000
Max Download Image Count: null
Max Mosaic Image Count: null
Allow Raster Function: true
Allow Copy: null
Allow Analysis: null
Allow Compute TiePoints: false
Supports Statistics: false
Supports Advanced Queries: false
Use StandardizedQueries: true
Raster Type Infos:
Name: Raster Dataset
Description: Supports all ArcGIS Raster Datasets
Help:
Has Raster Attribute Table: false
Edit Fields Info: null
Ownership Based AccessControl For Rasters: null
Child Resources:
Info
Histograms
Key Properties
Legend
Raster Function Infos
Supported Operations:
Export Image
Identify
Measure
Compute Histograms
Compute Statistics Histograms
Get Samples
Compute Class Statistics
Query Boundary
Compute Pixel Location
Validate
Project