{
 "currentVersion": 10.81,
 "serviceDescription": "Imagery/WarrenMS400",
 "name": "Imagery/WarrenMS400",
 "description": "",
 "extent": {
  "xmin": 2031532.57262978,
  "ymin": 932857.81542307,
  "xmax": 2234423.22305078,
  "ymax": 1145758.57743767,
  "spatialReference": {
   "wkid": 102695,
   "latestWkid": 2255
  }
 },
 "initialExtent": {
  "xmin": 2031532.57262978,
  "ymin": 932857.81542307,
  "xmax": 2234423.22305078,
  "ymax": 1145758.57743767,
  "spatialReference": {
   "wkid": 102695,
   "latestWkid": 2255
  }
 },
 "fullExtent": {
  "xmin": 2031532.57262978,
  "ymin": 932857.81542307,
  "xmax": 2234423.22305078,
  "ymax": 1145758.57743767,
  "spatialReference": {
   "wkid": 102695,
   "latestWkid": 2255
  }
 },
 "pixelSizeX": 1.998824200000001,
 "pixelSizeY": 1.9988241999999998,
 "bandCount": 3,
 "pixelType": "U8",
 "minPixelSize": 0,
 "maxPixelSize": 0,
 "copyrightText": "",
 "serviceDataType": "esriImageServiceDataTypeRGB",
 "minValues": [
  32,
  33,
  24
 ],
 "maxValues": [
  255,
  255,
  255
 ],
 "meanValues": [
  164.57509433962,
  164.14037735849,
  160.31698113208
 ],
 "stdvValues": [
  72.19410302638,
  72.493762333156,
  75.2709263471
 ],
 "objectIdField": "",
 "fields": [],
 "capabilities": "Image,Metadata,Mensuration",
 "defaultMosaicMethod": "Center",
 "allowedMosaicMethods": "",
 "sortField": "",
 "sortValue": null,
 "sortAscending": true,
 "mosaicOperator": "First",
 "defaultCompressionQuality": 75,
 "defaultResamplingMethod": "Bilinear",
 "maxImageHeight": 4100,
 "maxImageWidth": 15000,
 "allowRasterFunction": true,
 "rasterFunctionInfos": [
  {
   "name": "None",
   "description": "",
   "help": ""
  }
 ],
 "rasterTypeInfos": [
  {
   "name": "Raster Dataset",
   "description": "Supports all ArcGIS Raster Datasets",
   "help": ""
  }
 ],
 "mensurationCapabilities": "Basic",
 "hasHistograms": true,
 "hasColormap": false,
 "hasRasterAttributeTable": false,
 "minScale": 0,
 "maxScale": 0,
 "exportTilesAllowed": false,
 "hasMultidimensions": false,
 "supportsStatistics": false,
 "supportsAdvancedQueries": false,
 "editFieldsInfo": null,
 "ownershipBasedAccessControlForRasters": null,
 "allowComputeTiePoints": false,
 "useStandardizedQueries": true,
 "advancedQueryCapabilities": {
  "useStandardizedQueries": true,
  "supportsStatistics": false,
  "supportsOrderBy": false,
  "supportsDistinct": false,
  "supportsPagination": false
 },
 "spatialReference": {
  "wkid": 102695,
  "latestWkid": 2255
 }
}
