View In:
ArcGIS JavaScript
ArcGIS Online Map Viewer
ArcGIS Earth
ArcMap
View Footprint In:
ArcGIS Online Map Viewer
Service Description: Imagery/WarrenMS100
Name: Imagery/WarrenMS100
Description:
Single Fused Map Cache: false
Extent:
XMin: 2068827.75
YMin: 963904.25
XMax: 2202053.75
YMax: 1120962.25
Spatial Reference: 102695
(2255)
Initial Extent:
XMin: 2068827.75
YMin: 963904.25
XMax: 2202053.75
YMax: 1120962.25
Spatial Reference: 102695
(2255)
Full Extent:
XMin: 2068827.75
YMin: 963904.25
XMax: 2202053.75
YMax: 1120962.25
Spatial Reference: 102695
(2255)
Pixel Size X: 0.5
Pixel Size Y: 0.5
Band Count: 3
Pixel Type: U8
RasterFunction Infos: {"rasterFunctionInfos": [{
"name": "None",
"description": "",
"help": ""
}]}
Mensuration Capabilities: Basic
Has Histograms: true
Has Colormap: false
Has Multi Dimensions : false
Rendering Rule:
Min Scale: 0
Max Scale: 0
Copyright Text:
Service Data Type: esriImageServiceDataTypeRGB
Min Values: 51, 46, 20
Max Values: 255, 255, 255
Mean Values: 200.64108618654, 199.21763085399, 192.1808343172
Standard Deviation Values: 68.026893744832, 69.703593653247, 78.244906606946
Object ID Field:
Fields:
None
Default Mosaic Method: Center
Allowed Mosaic Methods:
SortField:
SortValue: null
Mosaic Operator: First
Default Compression Quality: 75
Default Resampling Method: Bilinear
Max Record Count: null
Max Image Height: 4100
Max Image Width: 15000
Max Download Image Count: null
Max Mosaic Image Count: null
Allow Raster Function: true
Allow Copy: null
Allow Analysis: null
Allow Compute TiePoints: false
Supports Statistics: false
Supports Advanced Queries: false
Use StandardizedQueries: true
Raster Type Infos:
Name: Raster Dataset
Description: Supports all ArcGIS Raster Datasets
Help:
Has Raster Attribute Table: false
Edit Fields Info: null
Ownership Based AccessControl For Rasters: null
Child Resources:
Info
Histograms
Key Properties
Legend
Raster Function Infos
Supported Operations:
Export Image
Identify
Measure
Compute Histograms
Compute Statistics Histograms
Get Samples
Compute Class Statistics
Query Boundary
Compute Pixel Location
Validate
Project